BEGIN:VCALENDAR
VERSION:2.0
PRODID:-//SV Energie Berlin e.V. - ECPv6.15.20//NONSGML v1.0//EN
CALSCALE:GREGORIAN
METHOD:PUBLISH
X-WR-CALNAME:SV Energie Berlin e.V.
X-ORIGINAL-URL:https://sv-energie-berlin.de
X-WR-CALDESC:Veranstaltungen für SV Energie Berlin e.V.
REFRESH-INTERVAL;VALUE=DURATION:PT1H
X-Robots-Tag:noindex
X-PUBLISHED-TTL:PT1H
BEGIN:VTIMEZONE
TZID:Europe/Berlin
BEGIN:DAYLIGHT
TZOFFSETFROM:+0100
TZOFFSETTO:+0200
TZNAME:CEST
DTSTART:20250330T010000
END:DAYLIGHT
BEGIN:STANDARD
TZOFFSETFROM:+0200
TZOFFSETTO:+0100
TZNAME:CET
DTSTART:20251026T010000
END:STANDARD
BEGIN:DAYLIGHT
TZOFFSETFROM:+0100
TZOFFSETTO:+0200
TZNAME:CEST
DTSTART:20260329T010000
END:DAYLIGHT
BEGIN:STANDARD
TZOFFSETFROM:+0200
TZOFFSETTO:+0100
TZNAME:CET
DTSTART:20261025T010000
END:STANDARD
BEGIN:DAYLIGHT
TZOFFSETFROM:+0100
TZOFFSETTO:+0200
TZNAME:CEST
DTSTART:20270328T010000
END:DAYLIGHT
BEGIN:STANDARD
TZOFFSETFROM:+0200
TZOFFSETTO:+0100
TZNAME:CET
DTSTART:20271031T010000
END:STANDARD
END:VTIMEZONE
BEGIN:VEVENT
DTSTART;TZID=Europe/Berlin:20260428T190000
DTEND;TZID=Europe/Berlin:20260428T210000
DTSTAMP:20260420T162556
CREATED:20260407T085752Z
LAST-MODIFIED:20260407T085757Z
UID:14321-1777402800-1777410000@sv-energie-berlin.de
SUMMARY:Wanderruder- und Sportwartesitzung LRV Berlin
DESCRIPTION:Ort: Berliner Ruder-Club “Welle-Poseidon” e.V.gegründet 1894Am Großen Wannsee 46A14109 Berlin
URL:https://sv-energie-berlin.de/event/wanderruder-und-sportwartesitzung-lrv-berlin/
END:VEVENT
END:VCALENDAR