BEGIN:VCALENDAR
VERSION:2.0
PRODID:-//SV Energie Berlin e.V. - ECPv6.15.20//NONSGML v1.0//EN
CALSCALE:GREGORIAN
METHOD:PUBLISH
X-WR-CALNAME:SV Energie Berlin e.V.
X-ORIGINAL-URL:https://sv-energie-berlin.de
X-WR-CALDESC:Veranstaltungen für SV Energie Berlin e.V.
REFRESH-INTERVAL;VALUE=DURATION:PT1H
X-Robots-Tag:noindex
X-PUBLISHED-TTL:PT1H
BEGIN:VTIMEZONE
TZID:Europe/Berlin
BEGIN:DAYLIGHT
TZOFFSETFROM:+0100
TZOFFSETTO:+0200
TZNAME:CEST
DTSTART:20250330T010000
END:DAYLIGHT
BEGIN:STANDARD
TZOFFSETFROM:+0200
TZOFFSETTO:+0100
TZNAME:CET
DTSTART:20251026T010000
END:STANDARD
BEGIN:DAYLIGHT
TZOFFSETFROM:+0100
TZOFFSETTO:+0200
TZNAME:CEST
DTSTART:20260329T010000
END:DAYLIGHT
BEGIN:STANDARD
TZOFFSETFROM:+0200
TZOFFSETTO:+0100
TZNAME:CET
DTSTART:20261025T010000
END:STANDARD
BEGIN:DAYLIGHT
TZOFFSETFROM:+0100
TZOFFSETTO:+0200
TZNAME:CEST
DTSTART:20270328T010000
END:DAYLIGHT
BEGIN:STANDARD
TZOFFSETFROM:+0200
TZOFFSETTO:+0100
TZNAME:CET
DTSTART:20271031T010000
END:STANDARD
END:VTIMEZONE
BEGIN:VEVENT
DTSTART;TZID=Europe/Berlin:20260425T080000
DTEND;TZID=Europe/Berlin:20260426T170000
DTSTAMP:20260420T150353
CREATED:20260406T200443Z
LAST-MODIFIED:20260406T200446Z
UID:9696-1777104000-1777222800@sv-energie-berlin.de
SUMMARY:Berliner Frühregatta
DESCRIPTION:Berliner FrühregattaRegattastrecke Berlin GrünauRegattastr. 191 · 12527 Berlin Telefon: +49 30 6744 002Mail: mail@regattastrecke-gruenau.de \n\n\n\n \n\n\n\n\n\n\n\n\n\n\n\n\nRegattastrecke Berlin Grünau
URL:https://sv-energie-berlin.de/event/berliner-fruehregatta/
CATEGORIES:Jugend und Masters,Regatta
ATTACH;FMTTYPE=image/jpeg:https://sv-energie-berlin.de/wp-content/uploads/2022/04/solo-2016-50.jpg
END:VEVENT
END:VCALENDAR