BEGIN:VCALENDAR
VERSION:2.0
PRODID:-//SV Energie Berlin e.V. - ECPv6.15.20//NONSGML v1.0//EN
CALSCALE:GREGORIAN
METHOD:PUBLISH
X-ORIGINAL-URL:https://sv-energie-berlin.de
X-WR-CALDESC:Veranstaltungen für SV Energie Berlin e.V.
REFRESH-INTERVAL;VALUE=DURATION:PT1H
X-Robots-Tag:noindex
X-PUBLISHED-TTL:PT1H
BEGIN:VTIMEZONE
TZID:Europe/Berlin
BEGIN:DAYLIGHT
TZOFFSETFROM:+0100
TZOFFSETTO:+0200
TZNAME:CEST
DTSTART:20250330T010000
END:DAYLIGHT
BEGIN:STANDARD
TZOFFSETFROM:+0200
TZOFFSETTO:+0100
TZNAME:CET
DTSTART:20251026T010000
END:STANDARD
BEGIN:DAYLIGHT
TZOFFSETFROM:+0100
TZOFFSETTO:+0200
TZNAME:CEST
DTSTART:20260329T010000
END:DAYLIGHT
BEGIN:STANDARD
TZOFFSETFROM:+0200
TZOFFSETTO:+0100
TZNAME:CET
DTSTART:20261025T010000
END:STANDARD
BEGIN:DAYLIGHT
TZOFFSETFROM:+0100
TZOFFSETTO:+0200
TZNAME:CEST
DTSTART:20270328T010000
END:DAYLIGHT
BEGIN:STANDARD
TZOFFSETFROM:+0200
TZOFFSETTO:+0100
TZNAME:CET
DTSTART:20271031T010000
END:STANDARD
END:VTIMEZONE
BEGIN:VEVENT
DTSTART;TZID=Europe/Berlin:20260411T080000
DTEND;TZID=Europe/Berlin:20260411T170000
DTSTAMP:20260420T162917
CREATED:20230315T180013Z
LAST-MODIFIED:20260406T200006Z
UID:9714-1775894400-1775926800@sv-energie-berlin.de
SUMMARY:Fürstenwalder Langstreckenregatta
DESCRIPTION:Der Ruderclub Fürstenwalde 1893 e.V. veranstaltet in jedem Frühjahr eine DRV- Langstreckenregatta. \n\n\n\n\n\n\n\n\n\n\nZur Veranstalterseite
URL:https://sv-energie-berlin.de/event/fuerstenwalder-langstreckenregatta/
CATEGORIES:Masters,Regatta
END:VEVENT
BEGIN:VEVENT
DTSTART;TZID=Europe/Berlin:20260411T100000
DTEND;TZID=Europe/Berlin:20260411T220000
DTSTAMP:20260420T162917
CREATED:20260406T175406Z
LAST-MODIFIED:20260406T175410Z
UID:14316-1775901600-1775944800@sv-energie-berlin.de
SUMMARY:Gesamtberliner Anrudern bei RG Grünau
DESCRIPTION:Anrudern bei RG Grünau \n\n\n\nBootshaus
URL:https://sv-energie-berlin.de/event/gesamtberliner-anrudern-bei-rg-gruenau/
END:VEVENT
END:VCALENDAR